BEGIN:VCALENDAR
VERSION:2.0
PRODID:-//appefis - ECPv5.16.4//NONSGML v1.0//EN
CALSCALE:GREGORIAN
METHOD:PUBLISH
X-WR-CALNAME:appefis
X-ORIGINAL-URL:https://appefis.org/pt
X-WR-CALDESC:Events for appefis
REFRESH-INTERVAL;VALUE=DURATION:PT1H
X-Robots-Tag:noindex
X-PUBLISHED-TTL:PT1H
BEGIN:VTIMEZONE
TZID:UTC
BEGIN:STANDARD
TZOFFSETFROM:+0000
TZOFFSETTO:+0000
TZNAME:UTC
DTSTART:20230101T000000
END:STANDARD
END:VTIMEZONE
BEGIN:VEVENT
DTSTART;VALUE=DATE:20231007
DTEND;VALUE=DATE:20231008
DTSTAMP:20260421T080455
CREATED:20231001T091855Z
LAST-MODIFIED:20231001T091855Z
UID:2433-1696636800-1696723199@appefis.org
SUMMARY:Formação: O ensino da orientação na escola
DESCRIPTION:Formador: Bruno Nazário \nHoras: 25 \nLocalidade: Coimbra \nSessões presenciais nos dias 07 de outubro (Estádio Universitário de Coimbra) e 01 de novembro de 2023 (Choupal). \nSessões online e de trabalho autónomo em datas a definir. \nEsta ação de formação releva para efeitos de progressão em carreira de Professores dos Grupos 260 e 620 \nNúmero máximo de inscrições: 22 formandos \nData limite de inscrição: 30 de setembro de 2023 \nPreço: associados da APPEFIS: 42\,50€;  não associados: 60€ \nDownload da Ficha de inscrição: Ficha inscrição Orientação
URL:https://appefis.org/pt/event/formacao-o-ensino-da-orientacao-na-escola/
LOCATION:Coimbra
CATEGORIES:formação de professores
ATTACH;FMTTYPE=image/png:https://appefis.org/pt/wp-content/uploads/2023/10/form_corrida_orientacao25horas-1024x573-1.png
ORGANIZER;CN="APPEFIS":MAILTO:appefis@gmail.com
END:VEVENT
BEGIN:VEVENT
DTSTART;TZID=UTC:20231016T210000
DTEND;TZID=UTC:20231016T230000
DTSTAMP:20260421T080455
CREATED:20231003T103806Z
LAST-MODIFIED:20231003T103902Z
UID:2499-1697490000-1697497200@appefis.org
SUMMARY:Nutrição – avaliação e planeamento na fase competitiva
DESCRIPTION:“Nutrição – avaliação e planeamento na fase competitiva” é o tema da 6ª formação do Ciclo de Webinares que a Escola de Treinadores da Confederação de Treinadores de Portugal está a realizar. No próximo dia 16 de outubro\, segunda-feira\, das 21 às 23 horas\, Gisèle Magno vai voltar a abordar vários aspetos relevantes da nutrição\, desta vez na fase competitiva. \nA formação é creditada com 0\,2 UC para TPTD\, online\, gratuita\, aberta para todos e de inscrição obrigatória.
URL:https://appefis.org/pt/event/nutricao-avaliacao-e-planeamento-na-fase-competitiva/
CATEGORIES:formação de professores
ATTACH;FMTTYPE=image/jpeg:https://appefis.org/pt/wp-content/uploads/2023/10/webinar_nutricao.jpg
END:VEVENT
END:VCALENDAR